BEGIN:VCALENDAR
PRODID:-//Microsoft Corporation//Outlook 11.0 MIMEDIR//EN
VERSION:2.0
METHOD:PUBLISH
BEGIN:VEVENT
DTSTART:20260520T100000
DTEND:20260520T113000
LOCATION:Evangelisch-reformierte Landeskirche GR, Onlinekurs Loestrasse 60, 7000 Chur
TRANSP:OPAQUE
SEQUENCE:0
UID:e426067c-ed1c-4479-9cad-4037f3ffc370-0
DTSTAMP:20260520T100000
DESCRIPTION:Die Lebenswelten von Jugendlichen sind heute geprägt von Social Media und Künstlicher Intelligenz. Dort verhandeln Jugendliche täglich und in Echtzeit Identität, Beziehungen und Zugehörigkeit. Gleichzeitig wird die öffentliche Debatte rund um Handynutzung, Bildschirmzeit und digitale Risiken zunehmend intensiver. Sie stellt Fachpersonen der Jugendarbeit, Kirche und Schule vor die Herausforderung, Position zu beziehen.\n\nDieser Online-Input lädt dazu ein, die Bedeutung von Social Media und der KI für die Lebenswelt von Jugendlichen einzuordnen und die eigene Berufsrolle zwischen Schutz, Befähigung und Partizipation zu reflektieren. \nDer Input dient zugleich als inhaltliche Standortbestimmung und Ausblick auf einen vertiefenden Workshop im Herbst 2026 vor Ort in Graubünden.\n\nZIELGRUPPE\nFachpersonen der Offenen Kinder- und Jugendarbeit, Pfarr- und Lehrpersonen, beruflich und freiwillig Engagierte in kirchlichen Organisationen und Jugendverbänden, weitere Fachpersonen der Sozialen Arbeit und Interessierte\n\nREFERENT:INNEN\nSpiro Mavrias	Theologe und Fachmitarbeiter für neue kirchliche Orte und Formen der reformierten  Landeskirche Zürich \nEike Rösch	         Medienpädagoge, Erziehungswissenschaftler, tätig für Radarstation\n\nKOSTEN\nDie Teilnahme ist kostenlos\n\nANMELDUNG\nVia Link auf dieser Seite (Auf der Webseite von jugend.gr).\nDer Link zur Teilnahme wird wenige Tage vorher versendet.\n\nABLAUF\n1)	Begrüssung\n2)	Impulsreferate\n3)	Klären von Fragen\n4)	Ausblick Herbst-Workshop «Social Media in der Offenen Arbeit mit Jugendlichen»\n\nIN ZUSAMMENARBEIT MIT\njugend.gr und den Jugend-Fachstellen der Evangelisch-reformierten und der Katholischen Landeskirche\n\nhttps://jugend.gr/online-fachinput/\n\nKontakt\nEvangelisch-reformierte Landeskirche Graubünden\nKirchliches Leben\nClaudio Eugster\nLoëstrasse 60\n7000 Chur\n081 257 11 09\n\nVerfügbarkeit / Datum, Zeit\n20.5.2026 10:00 - 11:30\n\nPreis\nkeine\n\n\nDas Angebot im Detail: https://www.guidle.com/angebote/1246086310/was_bleibt_echt__jugendliche_beziehungen_in_zeiten_von_social_media_und_ki/chur\nQuelle: https://www.chur-kultur.ch
SUMMARY:«Was bleibt echt? – Jugendliche Beziehungen in Zeiten von Social Media und KI»
PRIORITY:5
X-MICROSOFT-CDO-IMPORTANCE:1
CLASS:PUBLIC
BEGIN:VALARM
TRIGGER:-P1D
ACTION:DISPLAY
DESCRIPTION:Reminder
END:VALARM
END:VEVENT
END:VCALENDAR