BEGIN:VCALENDAR
PRODID:-//Microsoft Corporation//Outlook 11.0 MIMEDIR//EN
VERSION:2.0
METHOD:PUBLISH
BEGIN:VEVENT
DTSTART:20260506T143000
DTEND:20260506T160000
LOCATION:Generationentheater zapperlot, Kinder- und Jugendtheater zapperlot, Proberaum 1.UG Reichsgasse 25, 7000 Chur
TRANSP:OPAQUE
SEQUENCE:0
UID:746c570c-8ebb-4c7b-981c-0976091b5562-0
DTSTAMP:20260506T143000
DESCRIPTION:EIN UNGEWÖHNLICHES THEATER-ABENTEUER \n\nWAS ist das GENERATIONEN THEATER?  Ein erfrischendes interaktives ZAPPERLOT Projekt zur Verbindung von Generationen\n\nFÜR neugierige Menschen jeglichen Alters (Senioren, Göttis, Kinder, Teenager, Neni und Tatta, Nachbarin, Freunde...)\nLEITUNG/REGIE Judith Schnider, Theaterschaffende seit 1995\n\nWAS Im Gepäck bringen wir  Geschichten, Sagen, Märchen aus Nah und Fern mit. \nGemeinsam gestalten wir diese Abenteuer bis zum glücklichen Ende.\nDie Teilnehmenden sind frei, sich soweit einzugeben, wie sie möchten. Bei der Rollenwahl sind keine Grenzen gesetzt. An besonders schönen Nachmittagen werden wir sogar von Annette mit der Geige begleitet.\n\nEs sind keine Theatervorkenntnissse nötig, jeder Nachmittag kann einzeln besucht werden.\n\nhttps://www.zapperlot.ch\n\nKontakt\nKinder und Jugendtheater Zapperlot\nJudith Schnider\nLeitung\nLangenjohnstrasse 12\n7000 Chur\n079 662 76 09\n\nVerfügbarkeit / Datum, Zeit\n6.5.2026 14:30 - 16:00\n\njeweils 1.Mittwoch im Monat\n\nPreis\nCHF8.-\n\n\nDas Angebot im Detail: https://www.guidle.com/angebote/1202175733/generationen_theater_fur_4-_99_jahrige_neugierige_menschen/chur\nQuelle: https://www.chur-kultur.ch
SUMMARY:GENERATIONEN THEATER für 4- 99 jährige neugierige Menschen
PRIORITY:5
X-MICROSOFT-CDO-IMPORTANCE:1
CLASS:PUBLIC
BEGIN:VALARM
TRIGGER:-P1D
ACTION:DISPLAY
DESCRIPTION:Reminder
END:VALARM
END:VEVENT
END:VCALENDAR